BEGIN:VCALENDAR
VERSION:2.0
PRODID:icalendar-ruby
CALSCALE:GREGORIAN
METHOD:PUBLISH
BEGIN:VEVENT
DTSTAMP:20260423T200927Z
UID:2-1966440@easterngatechurch.org
DTSTART:20250824T213000Z
DTEND:20250824T233000Z
CLASS:PUBLIC
CREATED:20260423T144714
DESCRIPTION:All are welcome to join us at Eastern Gate Church for our eveni
 ng evangelistic service!
LAST-MODIFIED:20260423T144714
LOCATION:
SUMMARY:Sunday Evening Service
URL;VALUE=URI:https://www.easterngatechurch.org/events/sunday-evening-servi
 ce/2025-08-24
ATTACH;FILENAME=Screen-Shot-2022-01-13-at-1.06.26-AM.jpg;FMTTYPE=image/jpeg
 :https://dq5pwpg1q8ru0.cloudfront.net/2022/01/13/19/04/44/19871980-8c7c-42
 66-8912-f21f6a0b3b56/Screen-Shot-2022-01-13-at-1.06.26-AM.jpg
END:VEVENT
END:VCALENDAR
